BEGIN:VCALENDAR
VERSION:2.0
PRODID:www.stappen-shoppen.nl
BEGIN:VEVENT
UID:stappen-shoppen.nl/entity/681b28a2c7cd3f57dd084e01
DTSTAMP:20260424T164301Z
ORGANIZER;CN=:MAILTO:
DTSTART:20250606T100000Z
DTEND:20250608T220000Z
URL:https://www.stappen-shoppen.nl/ical/681b28a2c7cd3f57dd084e01
SUMMARY:Bumperkluiven 2025
DESCRIPTION:Nog geen plannen voor het extra lange Pinksterweekend? Goed nieuws: het gezellige foodfestival Bumperkluiven strijkt van 6 t/m 9 juni  weer neer in Breda! Op het veld aan de Witte de Withweg geniet je vier dagen lang van een smakelijk festijn vol mobiele keukens\, muziek en vermaak voor jong en oud.  Of je nu houdt van zoet\, vlees\, vegan\, vegetarisch en natuurlijk een goede borrel? Bumperkluiven heeft het allemaal! Ga op culinaire ontdekkingsreis langs de leukste foodtrucks en proef de lekkerste streetfood gerechten.
END:VEVENT
END:VCALENDAR

