BEGIN:VCALENDAR
VERSION:2.0
PRODID:www.stappen-shoppen.nl
BEGIN:VEVENT
UID:stappen-shoppen.nl/entity/681d6403c93fc5aac4c0bf9a
DTSTAMP:20260424T010219Z
ORGANIZER;CN=:MAILTO:info@denobelaer.nl 
DTSTART:20251212T150000Z
DTEND:20251212T160000Z
URL:https://www.stappen-shoppen.nl/ical/681d6403c93fc5aac4c0bf9a
SUMMARY:Fien & Teun
DESCRIPTION:Fien & Teun organiseren een wonderlijk winterfeest. Samen met hun boerderijdieren en neefje Sem maken ze de boerderij helemaal klaar voor heel veel winterse gezelligheid vol liedjes\, dansjes en spelletjes.…
END:VEVENT
END:VCALENDAR

