BEGIN:VCALENDAR
VERSION:2.0
PRODID:www.stappen-shoppen.nl
BEGIN:VEVENT
UID:stappen-shoppen.nl/entity/69033a59a9695f007705aafb
DTSTAMP:20260420T013929Z
ORGANIZER;CN=:MAILTO:
DTSTART:20251214T110000Z
DTEND:20251214T100900Z
URL:https://www.stappen-shoppen.nl/ical/69033a59a9695f007705aafb
SUMMARY:Kerstparade bij de Barones
DESCRIPTION:Op 14 december verandert De Barones in een gezellig winterwonderland. De straten vullen zich met dans\, muziek\, leuke winterfiguren en kleurrijke wagens. Het wordt een vrolijke sfeer waar iedereen van kan genieten.
END:VEVENT
END:VCALENDAR

