BEGIN:VCALENDAR
VERSION:2.0
PRODID:www.stappen-shoppen.nl
BEGIN:VEVENT
UID:stappen-shoppen.nl/entity/6916ef058e60ce464702861e
DTSTAMP:20260425T183132Z
ORGANIZER;CN=:MAILTO:
DTSTART:20251123T120000Z
DTEND:20251123T170000Z
URL:https://www.stappen-shoppen.nl/ical/6916ef058e60ce464702861e
SUMMARY:Wijnspijs lunch: Wijnhuis Vintges x De Veestallen! 
DESCRIPTION:Kom proeven en genieten tijdens de wijnspijs lunch bij De Veestallen! Op zondag 23 november nodigen ze je uit voor een bijzondere Wijnspijs Lunch in samenwerking met Wijnhuis Vintges 
END:VEVENT
END:VCALENDAR

