BEGIN:VCALENDAR
VERSION:2.0
PRODID:www.stappen-shoppen.nl
BEGIN:VEVENT
UID:stappen-shoppen.nl/entity/69207c09a6f1ae69c20697c1
DTSTAMP:20260425T110640Z
ORGANIZER;CN=:MAILTO:
DTSTART:20251011T080000Z
DTEND:20260301T160000Z
URL:https://www.stappen-shoppen.nl/ical/69207c09a6f1ae69c20697c1
SUMMARY:Lichtjes speurtocht: Het geheim van René 
DESCRIPTION:Wist je dat René van Chalon de allereerste prins van Oranje-Nassau is? Hij is door iedereen vergeten. In de Grote Kerk Breda ontdek je zijn verhaal. Je ziet het indrukwekkende beeld dat Anna\, zijn vrouw\, heeft laten maken om René te herinneren. Ook bekijk je kunstwerken over gevoelens die iedereen wel eens heeft\, zoals liefde\, eenzaamheid en verdriet.
END:VEVENT
END:VCALENDAR

