BEGIN:VCALENDAR
VERSION:2.0
PRODID:www.stappen-shoppen.nl
BEGIN:VEVENT
UID:stappen-shoppen.nl/entity/6932d34e4ac27f1bc409c689
DTSTAMP:20260424T005049Z
ORGANIZER;CN=:MAILTO:
DTSTART:20251213T180000Z
DTEND:20251212T230000Z
URL:https://www.stappen-shoppen.nl/ical/6932d34e4ac27f1bc409c689
SUMMARY:WinterFest op het IJsplein van Breda
DESCRIPTION:Op 13 en 20 december verandert het IJsplein op de Grote Markt in Breda in een sfeervolle winterlocatie vol muziek\, lichtjes en warmte.  Op 13 december vult het plein zich met Hollandse meezingers en vrolijke après-ski nummers\, perfect om de winter goed in te luiden. Op 20 december nemen DJ’s het over met een heerlijke mix van iconische 80’s en 90’s hits.
END:VEVENT
BEGIN:VEVENT
UID:stappen-shoppen.nl/entity/6932d34e4ac27f1bc409c689
DTSTAMP:20260424T005049Z
ORGANIZER;CN=:MAILTO:
DTSTART:20251220T180000Z
DTEND:20251219T230000Z
URL:https://www.stappen-shoppen.nl/ical/6932d34e4ac27f1bc409c689
SUMMARY:WinterFest op het IJsplein van Breda
DESCRIPTION:Op 13 en 20 december verandert het IJsplein op de Grote Markt in Breda in een sfeervolle winterlocatie vol muziek\, lichtjes en warmte.  Op 13 december vult het plein zich met Hollandse meezingers en vrolijke après-ski nummers\, perfect om de winter goed in te luiden. Op 20 december nemen DJ’s het over met een heerlijke mix van iconische 80’s en 90’s hits.
END:VEVENT
END:VCALENDAR

