BEGIN:VCALENDAR
VERSION:2.0
PRODID:www.stappen-shoppen.nl
BEGIN:VEVENT
UID:stappen-shoppen.nl/entity/6932e7a910ad5b4518092a81
DTSTAMP:20260424T010515Z
ORGANIZER;CN=:MAILTO:
DTSTART:20251205T070000Z
DTEND:20251205T140000Z
URL:https://www.stappen-shoppen.nl/ical/6932e7a910ad5b4518092a81
SUMMARY:Geniet van de kerstsfeer op de winterse weekmarkt van breda
DESCRIPTION:In de winter verandert de Grote Markt samen met de Veemarktstraat in een sfeervolle Winterse Weekmarkt. Bezoekers kunnen hier struinen langs kraampjes vol verse producten: van brood en heerlijke bloemen tot kazen\, noten\, en andere winterse lekkernijen. 
END:VEVENT
BEGIN:VEVENT
UID:stappen-shoppen.nl/entity/6932e7a910ad5b4518092a81
DTSTAMP:20260424T010515Z
ORGANIZER;CN=:MAILTO:
DTSTART:20251209T070000Z
DTEND:20251209T140000Z
URL:https://www.stappen-shoppen.nl/ical/6932e7a910ad5b4518092a81
SUMMARY:Geniet van de kerstsfeer op de winterse weekmarkt van breda
DESCRIPTION:In de winter verandert de Grote Markt samen met de Veemarktstraat in een sfeervolle Winterse Weekmarkt. Bezoekers kunnen hier struinen langs kraampjes vol verse producten: van brood en heerlijke bloemen tot kazen\, noten\, en andere winterse lekkernijen. 
END:VEVENT
BEGIN:VEVENT
UID:stappen-shoppen.nl/entity/6932e7a910ad5b4518092a81
DTSTAMP:20260424T010515Z
ORGANIZER;CN=:MAILTO:
DTSTART:20251210T070000Z
DTEND:20251210T140000Z
URL:https://www.stappen-shoppen.nl/ical/6932e7a910ad5b4518092a81
SUMMARY:Geniet van de kerstsfeer op de winterse weekmarkt van breda
DESCRIPTION:In de winter verandert de Grote Markt samen met de Veemarktstraat in een sfeervolle Winterse Weekmarkt. Bezoekers kunnen hier struinen langs kraampjes vol verse producten: van brood en heerlijke bloemen tot kazen\, noten\, en andere winterse lekkernijen. 
END:VEVENT
BEGIN:VEVENT
UID:stappen-shoppen.nl/entity/6932e7a910ad5b4518092a81
DTSTAMP:20260424T010515Z
ORGANIZER;CN=:MAILTO:
DTSTART:20251212T070000Z
DTEND:20251212T140000Z
URL:https://www.stappen-shoppen.nl/ical/6932e7a910ad5b4518092a81
SUMMARY:Geniet van de kerstsfeer op de winterse weekmarkt van breda
DESCRIPTION:In de winter verandert de Grote Markt samen met de Veemarktstraat in een sfeervolle Winterse Weekmarkt. Bezoekers kunnen hier struinen langs kraampjes vol verse producten: van brood en heerlijke bloemen tot kazen\, noten\, en andere winterse lekkernijen. 
END:VEVENT
BEGIN:VEVENT
UID:stappen-shoppen.nl/entity/6932e7a910ad5b4518092a81
DTSTAMP:20260424T010515Z
ORGANIZER;CN=:MAILTO:
DTSTART:20251216T070000Z
DTEND:20251216T140000Z
URL:https://www.stappen-shoppen.nl/ical/6932e7a910ad5b4518092a81
SUMMARY:Geniet van de kerstsfeer op de winterse weekmarkt van breda
DESCRIPTION:In de winter verandert de Grote Markt samen met de Veemarktstraat in een sfeervolle Winterse Weekmarkt. Bezoekers kunnen hier struinen langs kraampjes vol verse producten: van brood en heerlijke bloemen tot kazen\, noten\, en andere winterse lekkernijen. 
END:VEVENT
BEGIN:VEVENT
UID:stappen-shoppen.nl/entity/6932e7a910ad5b4518092a81
DTSTAMP:20260424T010515Z
ORGANIZER;CN=:MAILTO:
DTSTART:20251217T070000Z
DTEND:20251217T140000Z
URL:https://www.stappen-shoppen.nl/ical/6932e7a910ad5b4518092a81
SUMMARY:Geniet van de kerstsfeer op de winterse weekmarkt van breda
DESCRIPTION:In de winter verandert de Grote Markt samen met de Veemarktstraat in een sfeervolle Winterse Weekmarkt. Bezoekers kunnen hier struinen langs kraampjes vol verse producten: van brood en heerlijke bloemen tot kazen\, noten\, en andere winterse lekkernijen. 
END:VEVENT
BEGIN:VEVENT
UID:stappen-shoppen.nl/entity/6932e7a910ad5b4518092a81
DTSTAMP:20260424T010515Z
ORGANIZER;CN=:MAILTO:
DTSTART:20251219T070000Z
DTEND:20251219T140000Z
URL:https://www.stappen-shoppen.nl/ical/6932e7a910ad5b4518092a81
SUMMARY:Geniet van de kerstsfeer op de winterse weekmarkt van breda
DESCRIPTION:In de winter verandert de Grote Markt samen met de Veemarktstraat in een sfeervolle Winterse Weekmarkt. Bezoekers kunnen hier struinen langs kraampjes vol verse producten: van brood en heerlijke bloemen tot kazen\, noten\, en andere winterse lekkernijen. 
END:VEVENT
BEGIN:VEVENT
UID:stappen-shoppen.nl/entity/6932e7a910ad5b4518092a81
DTSTAMP:20260424T010515Z
ORGANIZER;CN=:MAILTO:
DTSTART:20251223T070000Z
DTEND:20251223T140000Z
URL:https://www.stappen-shoppen.nl/ical/6932e7a910ad5b4518092a81
SUMMARY:Geniet van de kerstsfeer op de winterse weekmarkt van breda
DESCRIPTION:In de winter verandert de Grote Markt samen met de Veemarktstraat in een sfeervolle Winterse Weekmarkt. Bezoekers kunnen hier struinen langs kraampjes vol verse producten: van brood en heerlijke bloemen tot kazen\, noten\, en andere winterse lekkernijen. 
END:VEVENT
BEGIN:VEVENT
UID:stappen-shoppen.nl/entity/6932e7a910ad5b4518092a81
DTSTAMP:20260424T010515Z
ORGANIZER;CN=:MAILTO:
DTSTART:20251224T070000Z
DTEND:20251224T140000Z
URL:https://www.stappen-shoppen.nl/ical/6932e7a910ad5b4518092a81
SUMMARY:Geniet van de kerstsfeer op de winterse weekmarkt van breda
DESCRIPTION:In de winter verandert de Grote Markt samen met de Veemarktstraat in een sfeervolle Winterse Weekmarkt. Bezoekers kunnen hier struinen langs kraampjes vol verse producten: van brood en heerlijke bloemen tot kazen\, noten\, en andere winterse lekkernijen. 
END:VEVENT
BEGIN:VEVENT
UID:stappen-shoppen.nl/entity/6932e7a910ad5b4518092a81
DTSTAMP:20260424T010515Z
ORGANIZER;CN=:MAILTO:
DTSTART:20251226T070000Z
DTEND:20251226T140000Z
URL:https://www.stappen-shoppen.nl/ical/6932e7a910ad5b4518092a81
SUMMARY:Geniet van de kerstsfeer op de winterse weekmarkt van breda
DESCRIPTION:In de winter verandert de Grote Markt samen met de Veemarktstraat in een sfeervolle Winterse Weekmarkt. Bezoekers kunnen hier struinen langs kraampjes vol verse producten: van brood en heerlijke bloemen tot kazen\, noten\, en andere winterse lekkernijen. 
END:VEVENT
BEGIN:VEVENT
UID:stappen-shoppen.nl/entity/6932e7a910ad5b4518092a81
DTSTAMP:20260424T010515Z
ORGANIZER;CN=:MAILTO:
DTSTART:20251230T070000Z
DTEND:20251230T140000Z
URL:https://www.stappen-shoppen.nl/ical/6932e7a910ad5b4518092a81
SUMMARY:Geniet van de kerstsfeer op de winterse weekmarkt van breda
DESCRIPTION:In de winter verandert de Grote Markt samen met de Veemarktstraat in een sfeervolle Winterse Weekmarkt. Bezoekers kunnen hier struinen langs kraampjes vol verse producten: van brood en heerlijke bloemen tot kazen\, noten\, en andere winterse lekkernijen. 
END:VEVENT
BEGIN:VEVENT
UID:stappen-shoppen.nl/entity/6932e7a910ad5b4518092a81
DTSTAMP:20260424T010515Z
ORGANIZER;CN=:MAILTO:
DTSTART:20251231T070000Z
DTEND:20251231T140000Z
URL:https://www.stappen-shoppen.nl/ical/6932e7a910ad5b4518092a81
SUMMARY:Geniet van de kerstsfeer op de winterse weekmarkt van breda
DESCRIPTION:In de winter verandert de Grote Markt samen met de Veemarktstraat in een sfeervolle Winterse Weekmarkt. Bezoekers kunnen hier struinen langs kraampjes vol verse producten: van brood en heerlijke bloemen tot kazen\, noten\, en andere winterse lekkernijen. 
END:VEVENT
BEGIN:VEVENT
UID:stappen-shoppen.nl/entity/6932e7a910ad5b4518092a81
DTSTAMP:20260424T010515Z
ORGANIZER;CN=:MAILTO:
DTSTART:20260102T070000Z
DTEND:20260102T140000Z
URL:https://www.stappen-shoppen.nl/ical/6932e7a910ad5b4518092a81
SUMMARY:Geniet van de kerstsfeer op de winterse weekmarkt van breda
DESCRIPTION:In de winter verandert de Grote Markt samen met de Veemarktstraat in een sfeervolle Winterse Weekmarkt. Bezoekers kunnen hier struinen langs kraampjes vol verse producten: van brood en heerlijke bloemen tot kazen\, noten\, en andere winterse lekkernijen. 
END:VEVENT
END:VCALENDAR

