BEGIN:VCALENDAR
VERSION:2.0
PRODID:www.stappen-shoppen.nl
BEGIN:VEVENT
UID:stappen-shoppen.nl/entity/6932e9199985ccc51f0b518c
DTSTAMP:20260424T010607Z
ORGANIZER;CN=:MAILTO:
DTSTART:20251207T093000Z
DTEND:20251207T130000Z
URL:https://www.stappen-shoppen.nl/ical/6932e9199985ccc51f0b518c
SUMMARY:Kerstmarkt op Boerderij de Koekoek
DESCRIPTION:Zondag 7 december is het weer zover! Na het succes van vorig jaar organiseert Boerderij De Koekoek ook dit jaar weer een gezellige kerstmarkt\, van 10.30-14.00 uur.
END:VEVENT
END:VCALENDAR

