BEGIN:VCALENDAR
VERSION:2.0
PRODID:www.stappen-shoppen.nl
BEGIN:VEVENT
UID:stappen-shoppen.nl/entity/6932ea641a7496ce250d7274
DTSTAMP:20260424T005050Z
ORGANIZER;CN=:MAILTO:
DTSTART:20251214T100000Z
DTEND:20251214T160000Z
URL:https://www.stappen-shoppen.nl/ical/6932ea641a7496ce250d7274
SUMMARY:Kerstmarkt op het van Bergenplein
DESCRIPTION:Op zondag 14 december 2025 vindt weer de gezellige Kerstmarkt plaats op het Van Bergenplein in Etten-Leur Noord. Het begint om 11.00 uur en duurt tot 17.00 uur.
END:VEVENT
END:VCALENDAR

