BEGIN:VCALENDAR
VERSION:2.0
PRODID:www.stappen-shoppen.nl
BEGIN:VEVENT
UID:stappen-shoppen.nl/entity/6932ecaefe3503153a092d95
DTSTAMP:20260424T005120Z
ORGANIZER;CN=:MAILTO:
DTSTART:20251213T100000Z
DTEND:20251213T120000Z
URL:https://www.stappen-shoppen.nl/ical/6932ecaefe3503153a092d95
SUMMARY:Kerstconcert Cantadonna's
DESCRIPTION:Dameskoor Cantadonna zorgt voor een sfeervolle én muzikale start van de feestdagen. Kom op zaterdag 13 december alvast in de kerstsferen met hun knusse kerstconcert in de huiskamer van de Nobelaer.
END:VEVENT
END:VCALENDAR

