BEGIN:VCALENDAR
VERSION:2.0
PRODID:www.stappen-shoppen.nl
BEGIN:VEVENT
UID:stappen-shoppen.nl/entity/6932f48244bb8a947709e4ee
DTSTAMP:20260424T005050Z
ORGANIZER;CN=:MAILTO:
DTSTART:20251214T150000Z
DTEND:20251214T170000Z
URL:https://www.stappen-shoppen.nl/ical/6932f48244bb8a947709e4ee
SUMMARY:De top 2000 quiz!
DESCRIPTION:Ben jij dé Top 2000-kenner van je vriendengroep? 🤓 Test je muziekkennis in 7 rondes boordevol hits\, meezingmomenten\, puzzels en humor! Teams van 2–6 personen.
END:VEVENT
END:VCALENDAR

