BEGIN:VCALENDAR
VERSION:2.0
PRODID:www.stappen-shoppen.nl
BEGIN:VEVENT
UID:stappen-shoppen.nl/entity/6932f9d896c8498f920ea6d6
DTSTAMP:20260424T005030Z
ORGANIZER;CN=:MAILTO:
DTSTART:20251205T152117Z
DTEND:20251205T152117Z
URL:https://www.stappen-shoppen.nl/ical/6932f9d896c8498f920ea6d6
SUMMARY:ICE-koud
DESCRIPTION:Klaar voor de 20e editie van ICE KOUD? Na het grote succes van vorig jaar is dit jaar de schnapsbar weer aanwezig! Met wie draai jij aan het rad?
END:VEVENT
END:VCALENDAR

