BEGIN:VCALENDAR
VERSION:2.0
PRODID:www.stappen-shoppen.nl
BEGIN:VEVENT
UID:stappen-shoppen.nl/entity/6932fcc171e1e6592b0883b5
DTSTAMP:20260424T005128Z
ORGANIZER;CN=:MAILTO:
DTSTART:20251214T130000Z
DTEND:20260116T150000Z
URL:https://www.stappen-shoppen.nl/ical/6932fcc171e1e6592b0883b5
SUMMARY:Kerstbeleving zanggroep Rucphen
DESCRIPTION:Zanggroep Rucphen organiseert een Kerstbeleving in MFA AGORA.  Op zondagmiddag 14 december om 14:00 uur organiseert Zanggroep Rucphen onder leiding van Laurens van Wessel een muzikale middag voor jong en oud.
END:VEVENT
END:VCALENDAR

