BEGIN:VCALENDAR
VERSION:2.0
PRODID:www.stappen-shoppen.nl
BEGIN:VEVENT
UID:stappen-shoppen.nl/entity/6932ffaa13e41d2a39095e08
DTSTAMP:20260424T005810Z
ORGANIZER;CN=:MAILTO:
DTSTART:20251226T100000Z
DTEND:20251226T123000Z
URL:https://www.stappen-shoppen.nl/ical/6932ffaa13e41d2a39095e08
SUMMARY:Kerst bij Happy Alphen! 
DESCRIPTION:Geniet van een heerlijke kerstbrunch op 2e kerstdag\, met lekker eten en een ontspannen sfeer.  Van 11.00 tot 13.30 uur wordt er een uitgebreide kerstbrunch met allerlei zoete én hartige gerechten geserveerd. De brunch kost € 27\,50 p.p.\, kinderen t/m 12 jaar krijgen 50% korting (excl. drankjes).
END:VEVENT
END:VCALENDAR

