BEGIN:VCALENDAR
VERSION:2.0
PRODID:www.stappen-shoppen.nl
BEGIN:VEVENT
UID:stappen-shoppen.nl/entity/693694f5f64a313d2002c0f6
DTSTAMP:20260424T005233Z
ORGANIZER;CN=:MAILTO:
DTSTART:20251221T110000Z
DTEND:20251221T200000Z
URL:https://www.stappen-shoppen.nl/ical/693694f5f64a313d2002c0f6
SUMMARY:Kerststallen Snaps Tour
DESCRIPTION:Op zondag 21 december 2025 is het weer zover. Dan gaan we helemaal in après-ski thema met een bus vol muziek\, snaps en vooral veel lol op weg naar verschillende kerststalletjes in de regio.
END:VEVENT
END:VCALENDAR

