BEGIN:VCALENDAR
VERSION:2.0
PRODID:www.stappen-shoppen.nl
BEGIN:VEVENT
UID:stappen-shoppen.nl/entity/6936a5871670ff9fdd0b5e0c
DTSTAMP:20260424T005241Z
ORGANIZER;CN=:MAILTO:
DTSTART:20251224T180000Z
DTEND:20251230T183000Z
URL:https://www.stappen-shoppen.nl/ical/6936a5871670ff9fdd0b5e0c
SUMMARY:Kerstlichtshow Chaam
DESCRIPTION:24 december t/m 30 december speelt iedere avond om 19:00 de kerstlichtshow in Chaam! 
END:VEVENT
END:VCALENDAR

