BEGIN:VCALENDAR
VERSION:2.0
PRODID:www.stappen-shoppen.nl
BEGIN:VEVENT
UID:stappen-shoppen.nl/entity/6936a6fcfef3e006e2068203
DTSTAMP:20260424T010036Z
ORGANIZER;CN=:MAILTO:
DTSTART:20251212T193000Z
DTEND:20251213T000000Z
URL:https://www.stappen-shoppen.nl/ical/6936a6fcfef3e006e2068203
SUMMARY:Foute kersttruien party voor een goed doel
DESCRIPTION: Entree: €5 (verkrijgbaar vanaf 25 oktober)  Ons team (Happy) verdubbelt de opbrengst van de ticketverkoop en schenkt dit\, samen met de opbrengst van de loterij en veiling\, aan het KWF.
END:VEVENT
END:VCALENDAR

