BEGIN:VCALENDAR
VERSION:2.0
PRODID:www.stappen-shoppen.nl
BEGIN:VEVENT
UID:stappen-shoppen.nl/entity/6936a827da2a2ce7370984b4
DTSTAMP:20260424T005128Z
ORGANIZER;CN=:MAILTO:
DTSTART:20251208T102700Z
DTEND:20251226T102700Z
URL:https://www.stappen-shoppen.nl/ical/6936a827da2a2ce7370984b4
SUMMARY:De Kerstmarkt van Malawishop Zundert
DESCRIPTION:Kom gezellig langs en ontdek tweedehands kerstspullen\, decoratie en cadeautjes\, allemaal voor het goede doel.
END:VEVENT
END:VCALENDAR

