BEGIN:VCALENDAR
VERSION:2.0
PRODID:www.stappen-shoppen.nl
BEGIN:VEVENT
UID:stappen-shoppen.nl/entity/697c8e9e532f79369000156d
DTSTAMP:20260425T182747Z
ORGANIZER;CN=:MAILTO:
DTSTART:20260213T160000Z
DTEND:20260214T225900Z
URL:https://www.stappen-shoppen.nl/ical/697c8e9e532f79369000156d
SUMMARY:Valentijn Bij De Veestallen
DESCRIPTION:Vier de liefde met een culinair Valentijnsmenu bij Restaurant De Veestallen. 
END:VEVENT
END:VCALENDAR

