BEGIN:VCALENDAR
VERSION:2.0
PRODID:www.stappen-shoppen.nl
BEGIN:VEVENT
UID:stappen-shoppen.nl/entity/69e725953ad5f3149a025b36
DTSTAMP:20260421T132852Z
ORGANIZER;CN=:MAILTO:
DTSTART:20260613T190000Z
DTEND:20260614T000000Z
URL:https://www.stappen-shoppen.nl/ical/69e725953ad5f3149a025b36
SUMMARY:Belle Vibes – 13 juni 2026 bij Hotel Nassau Breda
DESCRIPTION:Belle Vibes: Een nieuw concept\, ontwikkeld door Eddy Vonk in samenwerking met Hotel Nassau. Op 13 juni 2026 is het zover. Speciaal voor de 30+ doelgroep die zin heeft in een complete avond uit\, van een goed diner vooraf bij restaurant Bar Belle tot dansen tot in de late uurtjes. Belle Vibes is geen gewone clubnacht.
END:VEVENT
END:VCALENDAR

