BEGIN:VCALENDAR
VERSION:2.0
PRODID:www.stappen-shoppen.nl
BEGIN:VEVENT
UID:stappen-shoppen.nl/entity/69e8ac5686e94c4bab0ac62c
DTSTAMP:20260423T130030Z
ORGANIZER;CN=:MAILTO:info@mlstudios.nl
DTSTART:20260518T163000Z
DTEND:20260518T173000Z
URL:https://www.stappen-shoppen.nl/ical/69e8ac5686e94c4bab0ac62c
SUMMARY:Shape & Cheers: ML Studios x Big Belly Bar 🍸
DESCRIPTION:Shape & Cheers combineert een energieke full body workout met een ontspannen moment samen. In de stadstuin van Big Belly Bar train je kracht\, core en conditie\, waarna je blijft hangen voor een drankje en de typische Big Belly sfeer.
END:VEVENT
END:VCALENDAR

