BEGIN:VCALENDAR
VERSION:2.0
PRODID:www.stappen-shoppen.nl
BEGIN:VEVENT
UID:stappen-shoppen.nl/entity/69e9eafb2c8bcacf910708f9
DTSTAMP:20260423T203523Z
ORGANIZER;CN=:MAILTO:
DTSTART:20260505T183000Z
DTEND:20260505T200000Z
URL:https://www.stappen-shoppen.nl/ical/69e9eafb2c8bcacf910708f9
SUMMARY:Tribute around town Breda @ Bruxelles 
DESCRIPTION:Bij Bruxelles zet een waanzinnige Queen tribute band de zaak op zijn kop met alle klassiekers van Freddie Mercury
END:VEVENT
END:VCALENDAR

