BEGIN:VCALENDAR
VERSION:2.0
PRODID:www.stappen-shoppen.nl
BEGIN:VEVENT
UID:stappen-shoppen.nl/entity/69ed0ec552c2561316088bd9
DTSTAMP:20260425T230711Z
ORGANIZER;CN=:MAILTO:
DTSTART:20260508T180000Z
DTEND:20260508T210000Z
URL:https://www.stappen-shoppen.nl/ical/69ed0ec552c2561316088bd9
SUMMARY:FF Live: 8 mei met 1 other thing
DESCRIPTION:
END:VEVENT
END:VCALENDAR

